BEGIN:VCALENDAR
VERSION:2.0
PRODID:-// - ECPv6.15.20//NONSGML v1.0//EN
CALSCALE:GREGORIAN
METHOD:PUBLISH
X-ORIGINAL-URL:https://blackrock-kadence.gotbdev.com
X-WR-CALDESC:Events for 
REFRESH-INTERVAL;VALUE=DURATION:PT1H
X-Robots-Tag:noindex
X-PUBLISHED-TTL:PT1H
BEGIN:VTIMEZONE
TZID:America/Vancouver
BEGIN:DAYLIGHT
TZOFFSETFROM:-0800
TZOFFSETTO:-0700
TZNAME:PDT
DTSTART:20290311T100000
END:DAYLIGHT
BEGIN:STANDARD
TZOFFSETFROM:-0700
TZOFFSETTO:-0800
TZNAME:PST
DTSTART:20291104T090000
END:STANDARD
BEGIN:DAYLIGHT
TZOFFSETFROM:-0800
TZOFFSETTO:-0700
TZNAME:PDT
DTSTART:20300310T100000
END:DAYLIGHT
BEGIN:STANDARD
TZOFFSETFROM:-0700
TZOFFSETTO:-0800
TZNAME:PST
DTSTART:20301103T090000
END:STANDARD
BEGIN:DAYLIGHT
TZOFFSETFROM:-0800
TZOFFSETTO:-0700
TZNAME:PDT
DTSTART:20310309T100000
END:DAYLIGHT
BEGIN:STANDARD
TZOFFSETFROM:-0700
TZOFFSETTO:-0800
TZNAME:PST
DTSTART:20311102T090000
END:STANDARD
END:VTIMEZONE
BEGIN:VEVENT
DTSTART;TZID=America/Vancouver:20300324T110000
DTEND;TZID=America/Vancouver:20300324T120000
DTSTAMP:20260422T191340
CREATED:20241102T184143Z
LAST-MODIFIED:20260221T003109Z
UID:10008093-1900580400-1900584000@blackrock-kadence.gotbdev.com
SUMMARY:Mezz: Adult Wrestling (Free to Members)
DESCRIPTION:Experience Adult Wrestling at Black Rock! A dedicated space to develop your strength\, endurance\, and wrestling technique. This is a no-Jiu-Jitsu\, no-striking program\, offering a challenging and rewarding workout for all skill levels. Whether you’re a beginner or seasoned wrestler\, Black Rock has you covered.
URL:https://blackrock-kadence.gotbdev.com/event/adult-wrestling-2/2030-03-24/
CATEGORIES:MMA
ATTACH;FMTTYPE=image/jpeg:https://blackrock-kadence.gotbdev.com/wp-content/uploads/2024/09/adult-mma-27.jpg
END:VEVENT
BEGIN:VEVENT
DTSTART;TZID=America/Vancouver:20300331T110000
DTEND;TZID=America/Vancouver:20300331T120000
DTSTAMP:20260422T191340
CREATED:20241102T184143Z
LAST-MODIFIED:20260221T003109Z
UID:10008094-1901185200-1901188800@blackrock-kadence.gotbdev.com
SUMMARY:Mezz: Adult Wrestling (Free to Members)
DESCRIPTION:Experience Adult Wrestling at Black Rock! A dedicated space to develop your strength\, endurance\, and wrestling technique. This is a no-Jiu-Jitsu\, no-striking program\, offering a challenging and rewarding workout for all skill levels. Whether you’re a beginner or seasoned wrestler\, Black Rock has you covered.
URL:https://blackrock-kadence.gotbdev.com/event/adult-wrestling-2/2030-03-31/
CATEGORIES:MMA
ATTACH;FMTTYPE=image/jpeg:https://blackrock-kadence.gotbdev.com/wp-content/uploads/2024/09/adult-mma-27.jpg
END:VEVENT
BEGIN:VEVENT
DTSTART;TZID=America/Vancouver:20300407T110000
DTEND;TZID=America/Vancouver:20300407T120000
DTSTAMP:20260422T191340
CREATED:20241102T184143Z
LAST-MODIFIED:20260221T003109Z
UID:10008095-1901790000-1901793600@blackrock-kadence.gotbdev.com
SUMMARY:Mezz: Adult Wrestling (Free to Members)
DESCRIPTION:Experience Adult Wrestling at Black Rock! A dedicated space to develop your strength\, endurance\, and wrestling technique. This is a no-Jiu-Jitsu\, no-striking program\, offering a challenging and rewarding workout for all skill levels. Whether you’re a beginner or seasoned wrestler\, Black Rock has you covered.
URL:https://blackrock-kadence.gotbdev.com/event/adult-wrestling-2/2030-04-07/
CATEGORIES:MMA
ATTACH;FMTTYPE=image/jpeg:https://blackrock-kadence.gotbdev.com/wp-content/uploads/2024/09/adult-mma-27.jpg
END:VEVENT
BEGIN:VEVENT
DTSTART;TZID=America/Vancouver:20300414T110000
DTEND;TZID=America/Vancouver:20300414T120000
DTSTAMP:20260422T191340
CREATED:20241102T184143Z
LAST-MODIFIED:20260221T003109Z
UID:10008096-1902394800-1902398400@blackrock-kadence.gotbdev.com
SUMMARY:Mezz: Adult Wrestling (Free to Members)
DESCRIPTION:Experience Adult Wrestling at Black Rock! A dedicated space to develop your strength\, endurance\, and wrestling technique. This is a no-Jiu-Jitsu\, no-striking program\, offering a challenging and rewarding workout for all skill levels. Whether you’re a beginner or seasoned wrestler\, Black Rock has you covered.
URL:https://blackrock-kadence.gotbdev.com/event/adult-wrestling-2/2030-04-14/
CATEGORIES:MMA
ATTACH;FMTTYPE=image/jpeg:https://blackrock-kadence.gotbdev.com/wp-content/uploads/2024/09/adult-mma-27.jpg
END:VEVENT
BEGIN:VEVENT
DTSTART;TZID=America/Vancouver:20300421T110000
DTEND;TZID=America/Vancouver:20300421T120000
DTSTAMP:20260422T191340
CREATED:20241102T184143Z
LAST-MODIFIED:20260221T003109Z
UID:10008097-1902999600-1903003200@blackrock-kadence.gotbdev.com
SUMMARY:Mezz: Adult Wrestling (Free to Members)
DESCRIPTION:Experience Adult Wrestling at Black Rock! A dedicated space to develop your strength\, endurance\, and wrestling technique. This is a no-Jiu-Jitsu\, no-striking program\, offering a challenging and rewarding workout for all skill levels. Whether you’re a beginner or seasoned wrestler\, Black Rock has you covered.
URL:https://blackrock-kadence.gotbdev.com/event/adult-wrestling-2/2030-04-21/
CATEGORIES:MMA
ATTACH;FMTTYPE=image/jpeg:https://blackrock-kadence.gotbdev.com/wp-content/uploads/2024/09/adult-mma-27.jpg
END:VEVENT
BEGIN:VEVENT
DTSTART;TZID=America/Vancouver:20300428T110000
DTEND;TZID=America/Vancouver:20300428T120000
DTSTAMP:20260422T191340
CREATED:20241102T184143Z
LAST-MODIFIED:20260221T003109Z
UID:10008098-1903604400-1903608000@blackrock-kadence.gotbdev.com
SUMMARY:Mezz: Adult Wrestling (Free to Members)
DESCRIPTION:Experience Adult Wrestling at Black Rock! A dedicated space to develop your strength\, endurance\, and wrestling technique. This is a no-Jiu-Jitsu\, no-striking program\, offering a challenging and rewarding workout for all skill levels. Whether you’re a beginner or seasoned wrestler\, Black Rock has you covered.
URL:https://blackrock-kadence.gotbdev.com/event/adult-wrestling-2/2030-04-28/
CATEGORIES:MMA
ATTACH;FMTTYPE=image/jpeg:https://blackrock-kadence.gotbdev.com/wp-content/uploads/2024/09/adult-mma-27.jpg
END:VEVENT
BEGIN:VEVENT
DTSTART;TZID=America/Vancouver:20300505T110000
DTEND;TZID=America/Vancouver:20300505T120000
DTSTAMP:20260422T191340
CREATED:20241102T184143Z
LAST-MODIFIED:20260221T003109Z
UID:10008099-1904209200-1904212800@blackrock-kadence.gotbdev.com
SUMMARY:Mezz: Adult Wrestling (Free to Members)
DESCRIPTION:Experience Adult Wrestling at Black Rock! A dedicated space to develop your strength\, endurance\, and wrestling technique. This is a no-Jiu-Jitsu\, no-striking program\, offering a challenging and rewarding workout for all skill levels. Whether you’re a beginner or seasoned wrestler\, Black Rock has you covered.
URL:https://blackrock-kadence.gotbdev.com/event/adult-wrestling-2/2030-05-05/
CATEGORIES:MMA
ATTACH;FMTTYPE=image/jpeg:https://blackrock-kadence.gotbdev.com/wp-content/uploads/2024/09/adult-mma-27.jpg
END:VEVENT
BEGIN:VEVENT
DTSTART;TZID=America/Vancouver:20300512T110000
DTEND;TZID=America/Vancouver:20300512T120000
DTSTAMP:20260422T191340
CREATED:20241102T184143Z
LAST-MODIFIED:20260221T003109Z
UID:10008100-1904814000-1904817600@blackrock-kadence.gotbdev.com
SUMMARY:Mezz: Adult Wrestling (Free to Members)
DESCRIPTION:Experience Adult Wrestling at Black Rock! A dedicated space to develop your strength\, endurance\, and wrestling technique. This is a no-Jiu-Jitsu\, no-striking program\, offering a challenging and rewarding workout for all skill levels. Whether you’re a beginner or seasoned wrestler\, Black Rock has you covered.
URL:https://blackrock-kadence.gotbdev.com/event/adult-wrestling-2/2030-05-12/
CATEGORIES:MMA
ATTACH;FMTTYPE=image/jpeg:https://blackrock-kadence.gotbdev.com/wp-content/uploads/2024/09/adult-mma-27.jpg
END:VEVENT
BEGIN:VEVENT
DTSTART;TZID=America/Vancouver:20300519T110000
DTEND;TZID=America/Vancouver:20300519T120000
DTSTAMP:20260422T191340
CREATED:20241102T184143Z
LAST-MODIFIED:20260221T003109Z
UID:10008101-1905418800-1905422400@blackrock-kadence.gotbdev.com
SUMMARY:Mezz: Adult Wrestling (Free to Members)
DESCRIPTION:Experience Adult Wrestling at Black Rock! A dedicated space to develop your strength\, endurance\, and wrestling technique. This is a no-Jiu-Jitsu\, no-striking program\, offering a challenging and rewarding workout for all skill levels. Whether you’re a beginner or seasoned wrestler\, Black Rock has you covered.
URL:https://blackrock-kadence.gotbdev.com/event/adult-wrestling-2/2030-05-19/
CATEGORIES:MMA
ATTACH;FMTTYPE=image/jpeg:https://blackrock-kadence.gotbdev.com/wp-content/uploads/2024/09/adult-mma-27.jpg
END:VEVENT
BEGIN:VEVENT
DTSTART;TZID=America/Vancouver:20300526T110000
DTEND;TZID=America/Vancouver:20300526T120000
DTSTAMP:20260422T191340
CREATED:20241102T184143Z
LAST-MODIFIED:20260221T003109Z
UID:10008102-1906023600-1906027200@blackrock-kadence.gotbdev.com
SUMMARY:Mezz: Adult Wrestling (Free to Members)
DESCRIPTION:Experience Adult Wrestling at Black Rock! A dedicated space to develop your strength\, endurance\, and wrestling technique. This is a no-Jiu-Jitsu\, no-striking program\, offering a challenging and rewarding workout for all skill levels. Whether you’re a beginner or seasoned wrestler\, Black Rock has you covered.
URL:https://blackrock-kadence.gotbdev.com/event/adult-wrestling-2/2030-05-26/
CATEGORIES:MMA
ATTACH;FMTTYPE=image/jpeg:https://blackrock-kadence.gotbdev.com/wp-content/uploads/2024/09/adult-mma-27.jpg
END:VEVENT
BEGIN:VEVENT
DTSTART;TZID=America/Vancouver:20300602T110000
DTEND;TZID=America/Vancouver:20300602T120000
DTSTAMP:20260422T191340
CREATED:20241102T184143Z
LAST-MODIFIED:20260221T003109Z
UID:10008103-1906628400-1906632000@blackrock-kadence.gotbdev.com
SUMMARY:Mezz: Adult Wrestling (Free to Members)
DESCRIPTION:Experience Adult Wrestling at Black Rock! A dedicated space to develop your strength\, endurance\, and wrestling technique. This is a no-Jiu-Jitsu\, no-striking program\, offering a challenging and rewarding workout for all skill levels. Whether you’re a beginner or seasoned wrestler\, Black Rock has you covered.
URL:https://blackrock-kadence.gotbdev.com/event/adult-wrestling-2/2030-06-02/
CATEGORIES:MMA
ATTACH;FMTTYPE=image/jpeg:https://blackrock-kadence.gotbdev.com/wp-content/uploads/2024/09/adult-mma-27.jpg
END:VEVENT
BEGIN:VEVENT
DTSTART;TZID=America/Vancouver:20300609T110000
DTEND;TZID=America/Vancouver:20300609T120000
DTSTAMP:20260422T191340
CREATED:20241102T184143Z
LAST-MODIFIED:20260221T003109Z
UID:10008104-1907233200-1907236800@blackrock-kadence.gotbdev.com
SUMMARY:Mezz: Adult Wrestling (Free to Members)
DESCRIPTION:Experience Adult Wrestling at Black Rock! A dedicated space to develop your strength\, endurance\, and wrestling technique. This is a no-Jiu-Jitsu\, no-striking program\, offering a challenging and rewarding workout for all skill levels. Whether you’re a beginner or seasoned wrestler\, Black Rock has you covered.
URL:https://blackrock-kadence.gotbdev.com/event/adult-wrestling-2/2030-06-09/
CATEGORIES:MMA
ATTACH;FMTTYPE=image/jpeg:https://blackrock-kadence.gotbdev.com/wp-content/uploads/2024/09/adult-mma-27.jpg
END:VEVENT
BEGIN:VEVENT
DTSTART;TZID=America/Vancouver:20300616T110000
DTEND;TZID=America/Vancouver:20300616T120000
DTSTAMP:20260422T191340
CREATED:20241102T184143Z
LAST-MODIFIED:20260221T003109Z
UID:10008105-1907838000-1907841600@blackrock-kadence.gotbdev.com
SUMMARY:Mezz: Adult Wrestling (Free to Members)
DESCRIPTION:Experience Adult Wrestling at Black Rock! A dedicated space to develop your strength\, endurance\, and wrestling technique. This is a no-Jiu-Jitsu\, no-striking program\, offering a challenging and rewarding workout for all skill levels. Whether you’re a beginner or seasoned wrestler\, Black Rock has you covered.
URL:https://blackrock-kadence.gotbdev.com/event/adult-wrestling-2/2030-06-16/
CATEGORIES:MMA
ATTACH;FMTTYPE=image/jpeg:https://blackrock-kadence.gotbdev.com/wp-content/uploads/2024/09/adult-mma-27.jpg
END:VEVENT
BEGIN:VEVENT
DTSTART;TZID=America/Vancouver:20300623T110000
DTEND;TZID=America/Vancouver:20300623T120000
DTSTAMP:20260422T191340
CREATED:20241102T184143Z
LAST-MODIFIED:20260221T003109Z
UID:10008106-1908442800-1908446400@blackrock-kadence.gotbdev.com
SUMMARY:Mezz: Adult Wrestling (Free to Members)
DESCRIPTION:Experience Adult Wrestling at Black Rock! A dedicated space to develop your strength\, endurance\, and wrestling technique. This is a no-Jiu-Jitsu\, no-striking program\, offering a challenging and rewarding workout for all skill levels. Whether you’re a beginner or seasoned wrestler\, Black Rock has you covered.
URL:https://blackrock-kadence.gotbdev.com/event/adult-wrestling-2/2030-06-23/
CATEGORIES:MMA
ATTACH;FMTTYPE=image/jpeg:https://blackrock-kadence.gotbdev.com/wp-content/uploads/2024/09/adult-mma-27.jpg
END:VEVENT
BEGIN:VEVENT
DTSTART;TZID=America/Vancouver:20300630T110000
DTEND;TZID=America/Vancouver:20300630T120000
DTSTAMP:20260422T191340
CREATED:20241102T184143Z
LAST-MODIFIED:20260221T003109Z
UID:10008107-1909047600-1909051200@blackrock-kadence.gotbdev.com
SUMMARY:Mezz: Adult Wrestling (Free to Members)
DESCRIPTION:Experience Adult Wrestling at Black Rock! A dedicated space to develop your strength\, endurance\, and wrestling technique. This is a no-Jiu-Jitsu\, no-striking program\, offering a challenging and rewarding workout for all skill levels. Whether you’re a beginner or seasoned wrestler\, Black Rock has you covered.
URL:https://blackrock-kadence.gotbdev.com/event/adult-wrestling-2/2030-06-30/
CATEGORIES:MMA
ATTACH;FMTTYPE=image/jpeg:https://blackrock-kadence.gotbdev.com/wp-content/uploads/2024/09/adult-mma-27.jpg
END:VEVENT
BEGIN:VEVENT
DTSTART;TZID=America/Vancouver:20300707T110000
DTEND;TZID=America/Vancouver:20300707T120000
DTSTAMP:20260422T191340
CREATED:20241102T184143Z
LAST-MODIFIED:20260221T003109Z
UID:10008108-1909652400-1909656000@blackrock-kadence.gotbdev.com
SUMMARY:Mezz: Adult Wrestling (Free to Members)
DESCRIPTION:Experience Adult Wrestling at Black Rock! A dedicated space to develop your strength\, endurance\, and wrestling technique. This is a no-Jiu-Jitsu\, no-striking program\, offering a challenging and rewarding workout for all skill levels. Whether you’re a beginner or seasoned wrestler\, Black Rock has you covered.
URL:https://blackrock-kadence.gotbdev.com/event/adult-wrestling-2/2030-07-07/
CATEGORIES:MMA
ATTACH;FMTTYPE=image/jpeg:https://blackrock-kadence.gotbdev.com/wp-content/uploads/2024/09/adult-mma-27.jpg
END:VEVENT
BEGIN:VEVENT
DTSTART;TZID=America/Vancouver:20300714T110000
DTEND;TZID=America/Vancouver:20300714T120000
DTSTAMP:20260422T191340
CREATED:20241102T184143Z
LAST-MODIFIED:20260221T003109Z
UID:10008109-1910257200-1910260800@blackrock-kadence.gotbdev.com
SUMMARY:Mezz: Adult Wrestling (Free to Members)
DESCRIPTION:Experience Adult Wrestling at Black Rock! A dedicated space to develop your strength\, endurance\, and wrestling technique. This is a no-Jiu-Jitsu\, no-striking program\, offering a challenging and rewarding workout for all skill levels. Whether you’re a beginner or seasoned wrestler\, Black Rock has you covered.
URL:https://blackrock-kadence.gotbdev.com/event/adult-wrestling-2/2030-07-14/
CATEGORIES:MMA
ATTACH;FMTTYPE=image/jpeg:https://blackrock-kadence.gotbdev.com/wp-content/uploads/2024/09/adult-mma-27.jpg
END:VEVENT
BEGIN:VEVENT
DTSTART;TZID=America/Vancouver:20300721T110000
DTEND;TZID=America/Vancouver:20300721T120000
DTSTAMP:20260422T191340
CREATED:20241102T184143Z
LAST-MODIFIED:20260221T003109Z
UID:10008110-1910862000-1910865600@blackrock-kadence.gotbdev.com
SUMMARY:Mezz: Adult Wrestling (Free to Members)
DESCRIPTION:Experience Adult Wrestling at Black Rock! A dedicated space to develop your strength\, endurance\, and wrestling technique. This is a no-Jiu-Jitsu\, no-striking program\, offering a challenging and rewarding workout for all skill levels. Whether you’re a beginner or seasoned wrestler\, Black Rock has you covered.
URL:https://blackrock-kadence.gotbdev.com/event/adult-wrestling-2/2030-07-21/
CATEGORIES:MMA
ATTACH;FMTTYPE=image/jpeg:https://blackrock-kadence.gotbdev.com/wp-content/uploads/2024/09/adult-mma-27.jpg
END:VEVENT
BEGIN:VEVENT
DTSTART;TZID=America/Vancouver:20300728T110000
DTEND;TZID=America/Vancouver:20300728T120000
DTSTAMP:20260422T191341
CREATED:20241102T184143Z
LAST-MODIFIED:20260221T003109Z
UID:10008111-1911466800-1911470400@blackrock-kadence.gotbdev.com
SUMMARY:Mezz: Adult Wrestling (Free to Members)
DESCRIPTION:Experience Adult Wrestling at Black Rock! A dedicated space to develop your strength\, endurance\, and wrestling technique. This is a no-Jiu-Jitsu\, no-striking program\, offering a challenging and rewarding workout for all skill levels. Whether you’re a beginner or seasoned wrestler\, Black Rock has you covered.
URL:https://blackrock-kadence.gotbdev.com/event/adult-wrestling-2/2030-07-28/
CATEGORIES:MMA
ATTACH;FMTTYPE=image/jpeg:https://blackrock-kadence.gotbdev.com/wp-content/uploads/2024/09/adult-mma-27.jpg
END:VEVENT
BEGIN:VEVENT
DTSTART;TZID=America/Vancouver:20300804T110000
DTEND;TZID=America/Vancouver:20300804T120000
DTSTAMP:20260422T191341
CREATED:20241102T184143Z
LAST-MODIFIED:20260221T003109Z
UID:10008112-1912071600-1912075200@blackrock-kadence.gotbdev.com
SUMMARY:Mezz: Adult Wrestling (Free to Members)
DESCRIPTION:Experience Adult Wrestling at Black Rock! A dedicated space to develop your strength\, endurance\, and wrestling technique. This is a no-Jiu-Jitsu\, no-striking program\, offering a challenging and rewarding workout for all skill levels. Whether you’re a beginner or seasoned wrestler\, Black Rock has you covered.
URL:https://blackrock-kadence.gotbdev.com/event/adult-wrestling-2/2030-08-04/
CATEGORIES:MMA
ATTACH;FMTTYPE=image/jpeg:https://blackrock-kadence.gotbdev.com/wp-content/uploads/2024/09/adult-mma-27.jpg
END:VEVENT
BEGIN:VEVENT
DTSTART;TZID=America/Vancouver:20300811T110000
DTEND;TZID=America/Vancouver:20300811T120000
DTSTAMP:20260422T191341
CREATED:20241102T184143Z
LAST-MODIFIED:20260221T003109Z
UID:10008113-1912676400-1912680000@blackrock-kadence.gotbdev.com
SUMMARY:Mezz: Adult Wrestling (Free to Members)
DESCRIPTION:Experience Adult Wrestling at Black Rock! A dedicated space to develop your strength\, endurance\, and wrestling technique. This is a no-Jiu-Jitsu\, no-striking program\, offering a challenging and rewarding workout for all skill levels. Whether you’re a beginner or seasoned wrestler\, Black Rock has you covered.
URL:https://blackrock-kadence.gotbdev.com/event/adult-wrestling-2/2030-08-11/
CATEGORIES:MMA
ATTACH;FMTTYPE=image/jpeg:https://blackrock-kadence.gotbdev.com/wp-content/uploads/2024/09/adult-mma-27.jpg
END:VEVENT
BEGIN:VEVENT
DTSTART;TZID=America/Vancouver:20300818T110000
DTEND;TZID=America/Vancouver:20300818T120000
DTSTAMP:20260422T191341
CREATED:20241102T184143Z
LAST-MODIFIED:20260221T003109Z
UID:10008114-1913281200-1913284800@blackrock-kadence.gotbdev.com
SUMMARY:Mezz: Adult Wrestling (Free to Members)
DESCRIPTION:Experience Adult Wrestling at Black Rock! A dedicated space to develop your strength\, endurance\, and wrestling technique. This is a no-Jiu-Jitsu\, no-striking program\, offering a challenging and rewarding workout for all skill levels. Whether you’re a beginner or seasoned wrestler\, Black Rock has you covered.
URL:https://blackrock-kadence.gotbdev.com/event/adult-wrestling-2/2030-08-18/
CATEGORIES:MMA
ATTACH;FMTTYPE=image/jpeg:https://blackrock-kadence.gotbdev.com/wp-content/uploads/2024/09/adult-mma-27.jpg
END:VEVENT
BEGIN:VEVENT
DTSTART;TZID=America/Vancouver:20300825T110000
DTEND;TZID=America/Vancouver:20300825T120000
DTSTAMP:20260422T191341
CREATED:20241102T184143Z
LAST-MODIFIED:20260221T003109Z
UID:10008115-1913886000-1913889600@blackrock-kadence.gotbdev.com
SUMMARY:Mezz: Adult Wrestling (Free to Members)
DESCRIPTION:Experience Adult Wrestling at Black Rock! A dedicated space to develop your strength\, endurance\, and wrestling technique. This is a no-Jiu-Jitsu\, no-striking program\, offering a challenging and rewarding workout for all skill levels. Whether you’re a beginner or seasoned wrestler\, Black Rock has you covered.
URL:https://blackrock-kadence.gotbdev.com/event/adult-wrestling-2/2030-08-25/
CATEGORIES:MMA
ATTACH;FMTTYPE=image/jpeg:https://blackrock-kadence.gotbdev.com/wp-content/uploads/2024/09/adult-mma-27.jpg
END:VEVENT
BEGIN:VEVENT
DTSTART;TZID=America/Vancouver:20300901T110000
DTEND;TZID=America/Vancouver:20300901T120000
DTSTAMP:20260422T191341
CREATED:20241102T184143Z
LAST-MODIFIED:20260221T003109Z
UID:10008116-1914490800-1914494400@blackrock-kadence.gotbdev.com
SUMMARY:Mezz: Adult Wrestling (Free to Members)
DESCRIPTION:Experience Adult Wrestling at Black Rock! A dedicated space to develop your strength\, endurance\, and wrestling technique. This is a no-Jiu-Jitsu\, no-striking program\, offering a challenging and rewarding workout for all skill levels. Whether you’re a beginner or seasoned wrestler\, Black Rock has you covered.
URL:https://blackrock-kadence.gotbdev.com/event/adult-wrestling-2/2030-09-01/
CATEGORIES:MMA
ATTACH;FMTTYPE=image/jpeg:https://blackrock-kadence.gotbdev.com/wp-content/uploads/2024/09/adult-mma-27.jpg
END:VEVENT
BEGIN:VEVENT
DTSTART;TZID=America/Vancouver:20300908T110000
DTEND;TZID=America/Vancouver:20300908T120000
DTSTAMP:20260422T191341
CREATED:20241102T184143Z
LAST-MODIFIED:20260221T003109Z
UID:10008117-1915095600-1915099200@blackrock-kadence.gotbdev.com
SUMMARY:Mezz: Adult Wrestling (Free to Members)
DESCRIPTION:Experience Adult Wrestling at Black Rock! A dedicated space to develop your strength\, endurance\, and wrestling technique. This is a no-Jiu-Jitsu\, no-striking program\, offering a challenging and rewarding workout for all skill levels. Whether you’re a beginner or seasoned wrestler\, Black Rock has you covered.
URL:https://blackrock-kadence.gotbdev.com/event/adult-wrestling-2/2030-09-08/
CATEGORIES:MMA
ATTACH;FMTTYPE=image/jpeg:https://blackrock-kadence.gotbdev.com/wp-content/uploads/2024/09/adult-mma-27.jpg
END:VEVENT
BEGIN:VEVENT
DTSTART;TZID=America/Vancouver:20300915T110000
DTEND;TZID=America/Vancouver:20300915T120000
DTSTAMP:20260422T191341
CREATED:20241102T184143Z
LAST-MODIFIED:20260221T003109Z
UID:10008118-1915700400-1915704000@blackrock-kadence.gotbdev.com
SUMMARY:Mezz: Adult Wrestling (Free to Members)
DESCRIPTION:Experience Adult Wrestling at Black Rock! A dedicated space to develop your strength\, endurance\, and wrestling technique. This is a no-Jiu-Jitsu\, no-striking program\, offering a challenging and rewarding workout for all skill levels. Whether you’re a beginner or seasoned wrestler\, Black Rock has you covered.
URL:https://blackrock-kadence.gotbdev.com/event/adult-wrestling-2/2030-09-15/
CATEGORIES:MMA
ATTACH;FMTTYPE=image/jpeg:https://blackrock-kadence.gotbdev.com/wp-content/uploads/2024/09/adult-mma-27.jpg
END:VEVENT
BEGIN:VEVENT
DTSTART;TZID=America/Vancouver:20300922T110000
DTEND;TZID=America/Vancouver:20300922T120000
DTSTAMP:20260422T191341
CREATED:20241102T184143Z
LAST-MODIFIED:20260221T003109Z
UID:10008119-1916305200-1916308800@blackrock-kadence.gotbdev.com
SUMMARY:Mezz: Adult Wrestling (Free to Members)
DESCRIPTION:Experience Adult Wrestling at Black Rock! A dedicated space to develop your strength\, endurance\, and wrestling technique. This is a no-Jiu-Jitsu\, no-striking program\, offering a challenging and rewarding workout for all skill levels. Whether you’re a beginner or seasoned wrestler\, Black Rock has you covered.
URL:https://blackrock-kadence.gotbdev.com/event/adult-wrestling-2/2030-09-22/
CATEGORIES:MMA
ATTACH;FMTTYPE=image/jpeg:https://blackrock-kadence.gotbdev.com/wp-content/uploads/2024/09/adult-mma-27.jpg
END:VEVENT
BEGIN:VEVENT
DTSTART;TZID=America/Vancouver:20300929T110000
DTEND;TZID=America/Vancouver:20300929T120000
DTSTAMP:20260422T191341
CREATED:20241102T184143Z
LAST-MODIFIED:20260221T003109Z
UID:10008120-1916910000-1916913600@blackrock-kadence.gotbdev.com
SUMMARY:Mezz: Adult Wrestling (Free to Members)
DESCRIPTION:Experience Adult Wrestling at Black Rock! A dedicated space to develop your strength\, endurance\, and wrestling technique. This is a no-Jiu-Jitsu\, no-striking program\, offering a challenging and rewarding workout for all skill levels. Whether you’re a beginner or seasoned wrestler\, Black Rock has you covered.
URL:https://blackrock-kadence.gotbdev.com/event/adult-wrestling-2/2030-09-29/
CATEGORIES:MMA
ATTACH;FMTTYPE=image/jpeg:https://blackrock-kadence.gotbdev.com/wp-content/uploads/2024/09/adult-mma-27.jpg
END:VEVENT
BEGIN:VEVENT
DTSTART;TZID=America/Vancouver:20301006T110000
DTEND;TZID=America/Vancouver:20301006T120000
DTSTAMP:20260422T191341
CREATED:20241102T184143Z
LAST-MODIFIED:20260221T003109Z
UID:10008121-1917514800-1917518400@blackrock-kadence.gotbdev.com
SUMMARY:Mezz: Adult Wrestling (Free to Members)
DESCRIPTION:Experience Adult Wrestling at Black Rock! A dedicated space to develop your strength\, endurance\, and wrestling technique. This is a no-Jiu-Jitsu\, no-striking program\, offering a challenging and rewarding workout for all skill levels. Whether you’re a beginner or seasoned wrestler\, Black Rock has you covered.
URL:https://blackrock-kadence.gotbdev.com/event/adult-wrestling-2/2030-10-06/
CATEGORIES:MMA
ATTACH;FMTTYPE=image/jpeg:https://blackrock-kadence.gotbdev.com/wp-content/uploads/2024/09/adult-mma-27.jpg
END:VEVENT
BEGIN:VEVENT
DTSTART;TZID=America/Vancouver:20301013T110000
DTEND;TZID=America/Vancouver:20301013T120000
DTSTAMP:20260422T191341
CREATED:20241102T184143Z
LAST-MODIFIED:20260221T003109Z
UID:10008122-1918119600-1918123200@blackrock-kadence.gotbdev.com
SUMMARY:Mezz: Adult Wrestling (Free to Members)
DESCRIPTION:Experience Adult Wrestling at Black Rock! A dedicated space to develop your strength\, endurance\, and wrestling technique. This is a no-Jiu-Jitsu\, no-striking program\, offering a challenging and rewarding workout for all skill levels. Whether you’re a beginner or seasoned wrestler\, Black Rock has you covered.
URL:https://blackrock-kadence.gotbdev.com/event/adult-wrestling-2/2030-10-13/
CATEGORIES:MMA
ATTACH;FMTTYPE=image/jpeg:https://blackrock-kadence.gotbdev.com/wp-content/uploads/2024/09/adult-mma-27.jpg
END:VEVENT
END:VCALENDAR