BEGIN:VCALENDAR
VERSION:2.0
PRODID:-// - ECPv6.15.20//NONSGML v1.0//EN
CALSCALE:GREGORIAN
METHOD:PUBLISH
X-ORIGINAL-URL:https://blackrock-kadence.gotbdev.com
X-WR-CALDESC:Events for 
REFRESH-INTERVAL;VALUE=DURATION:PT1H
X-Robots-Tag:noindex
X-PUBLISHED-TTL:PT1H
BEGIN:VTIMEZONE
TZID:America/Vancouver
BEGIN:DAYLIGHT
TZOFFSETFROM:-0800
TZOFFSETTO:-0700
TZNAME:PDT
DTSTART:20260308T100000
END:DAYLIGHT
BEGIN:STANDARD
TZOFFSETFROM:-0700
TZOFFSETTO:-0800
TZNAME:PST
DTSTART:20261101T090000
END:STANDARD
BEGIN:DAYLIGHT
TZOFFSETFROM:-0800
TZOFFSETTO:-0700
TZNAME:PDT
DTSTART:20270314T100000
END:DAYLIGHT
BEGIN:STANDARD
TZOFFSETFROM:-0700
TZOFFSETTO:-0800
TZNAME:PST
DTSTART:20271107T090000
END:STANDARD
BEGIN:DAYLIGHT
TZOFFSETFROM:-0800
TZOFFSETTO:-0700
TZNAME:PDT
DTSTART:20280312T100000
END:DAYLIGHT
BEGIN:STANDARD
TZOFFSETFROM:-0700
TZOFFSETTO:-0800
TZNAME:PST
DTSTART:20281105T090000
END:STANDARD
BEGIN:DAYLIGHT
TZOFFSETFROM:-0800
TZOFFSETTO:-0700
TZNAME:PDT
DTSTART:20290311T100000
END:DAYLIGHT
BEGIN:STANDARD
TZOFFSETFROM:-0700
TZOFFSETTO:-0800
TZNAME:PST
DTSTART:20291104T090000
END:STANDARD
END:VTIMEZONE
BEGIN:VEVENT
DTSTART;TZID=America/Vancouver:20270620T110000
DTEND;TZID=America/Vancouver:20270620T120000
DTSTAMP:20260421T152553
CREATED:20241102T184143Z
LAST-MODIFIED:20260221T003109Z
UID:10007949-1813489200-1813492800@blackrock-kadence.gotbdev.com
SUMMARY:Mezz: Adult Wrestling (Free to Members)
DESCRIPTION:Experience Adult Wrestling at Black Rock! A dedicated space to develop your strength\, endurance\, and wrestling technique. This is a no-Jiu-Jitsu\, no-striking program\, offering a challenging and rewarding workout for all skill levels. Whether you’re a beginner or seasoned wrestler\, Black Rock has you covered.
URL:https://blackrock-kadence.gotbdev.com/event/adult-wrestling-2/2027-06-20/
CATEGORIES:MMA
ATTACH;FMTTYPE=image/jpeg:https://blackrock-kadence.gotbdev.com/wp-content/uploads/2024/09/adult-mma-27.jpg
END:VEVENT
BEGIN:VEVENT
DTSTART;TZID=America/Vancouver:20270627T110000
DTEND;TZID=America/Vancouver:20270627T120000
DTSTAMP:20260421T152553
CREATED:20241102T184143Z
LAST-MODIFIED:20260221T003109Z
UID:10007950-1814094000-1814097600@blackrock-kadence.gotbdev.com
SUMMARY:Mezz: Adult Wrestling (Free to Members)
DESCRIPTION:Experience Adult Wrestling at Black Rock! A dedicated space to develop your strength\, endurance\, and wrestling technique. This is a no-Jiu-Jitsu\, no-striking program\, offering a challenging and rewarding workout for all skill levels. Whether you’re a beginner or seasoned wrestler\, Black Rock has you covered.
URL:https://blackrock-kadence.gotbdev.com/event/adult-wrestling-2/2027-06-27/
CATEGORIES:MMA
ATTACH;FMTTYPE=image/jpeg:https://blackrock-kadence.gotbdev.com/wp-content/uploads/2024/09/adult-mma-27.jpg
END:VEVENT
BEGIN:VEVENT
DTSTART;TZID=America/Vancouver:20270704T110000
DTEND;TZID=America/Vancouver:20270704T120000
DTSTAMP:20260421T152553
CREATED:20241102T184143Z
LAST-MODIFIED:20260221T003109Z
UID:10007951-1814698800-1814702400@blackrock-kadence.gotbdev.com
SUMMARY:Mezz: Adult Wrestling (Free to Members)
DESCRIPTION:Experience Adult Wrestling at Black Rock! A dedicated space to develop your strength\, endurance\, and wrestling technique. This is a no-Jiu-Jitsu\, no-striking program\, offering a challenging and rewarding workout for all skill levels. Whether you’re a beginner or seasoned wrestler\, Black Rock has you covered.
URL:https://blackrock-kadence.gotbdev.com/event/adult-wrestling-2/2027-07-04/
CATEGORIES:MMA
ATTACH;FMTTYPE=image/jpeg:https://blackrock-kadence.gotbdev.com/wp-content/uploads/2024/09/adult-mma-27.jpg
END:VEVENT
BEGIN:VEVENT
DTSTART;TZID=America/Vancouver:20270711T110000
DTEND;TZID=America/Vancouver:20270711T120000
DTSTAMP:20260421T152553
CREATED:20241102T184143Z
LAST-MODIFIED:20260221T003109Z
UID:10007952-1815303600-1815307200@blackrock-kadence.gotbdev.com
SUMMARY:Mezz: Adult Wrestling (Free to Members)
DESCRIPTION:Experience Adult Wrestling at Black Rock! A dedicated space to develop your strength\, endurance\, and wrestling technique. This is a no-Jiu-Jitsu\, no-striking program\, offering a challenging and rewarding workout for all skill levels. Whether you’re a beginner or seasoned wrestler\, Black Rock has you covered.
URL:https://blackrock-kadence.gotbdev.com/event/adult-wrestling-2/2027-07-11/
CATEGORIES:MMA
ATTACH;FMTTYPE=image/jpeg:https://blackrock-kadence.gotbdev.com/wp-content/uploads/2024/09/adult-mma-27.jpg
END:VEVENT
BEGIN:VEVENT
DTSTART;TZID=America/Vancouver:20270718T110000
DTEND;TZID=America/Vancouver:20270718T120000
DTSTAMP:20260421T152553
CREATED:20241102T184143Z
LAST-MODIFIED:20260221T003109Z
UID:10007953-1815908400-1815912000@blackrock-kadence.gotbdev.com
SUMMARY:Mezz: Adult Wrestling (Free to Members)
DESCRIPTION:Experience Adult Wrestling at Black Rock! A dedicated space to develop your strength\, endurance\, and wrestling technique. This is a no-Jiu-Jitsu\, no-striking program\, offering a challenging and rewarding workout for all skill levels. Whether you’re a beginner or seasoned wrestler\, Black Rock has you covered.
URL:https://blackrock-kadence.gotbdev.com/event/adult-wrestling-2/2027-07-18/
CATEGORIES:MMA
ATTACH;FMTTYPE=image/jpeg:https://blackrock-kadence.gotbdev.com/wp-content/uploads/2024/09/adult-mma-27.jpg
END:VEVENT
BEGIN:VEVENT
DTSTART;TZID=America/Vancouver:20270725T110000
DTEND;TZID=America/Vancouver:20270725T120000
DTSTAMP:20260421T152553
CREATED:20241102T184143Z
LAST-MODIFIED:20260221T003109Z
UID:10007954-1816513200-1816516800@blackrock-kadence.gotbdev.com
SUMMARY:Mezz: Adult Wrestling (Free to Members)
DESCRIPTION:Experience Adult Wrestling at Black Rock! A dedicated space to develop your strength\, endurance\, and wrestling technique. This is a no-Jiu-Jitsu\, no-striking program\, offering a challenging and rewarding workout for all skill levels. Whether you’re a beginner or seasoned wrestler\, Black Rock has you covered.
URL:https://blackrock-kadence.gotbdev.com/event/adult-wrestling-2/2027-07-25/
CATEGORIES:MMA
ATTACH;FMTTYPE=image/jpeg:https://blackrock-kadence.gotbdev.com/wp-content/uploads/2024/09/adult-mma-27.jpg
END:VEVENT
BEGIN:VEVENT
DTSTART;TZID=America/Vancouver:20270801T110000
DTEND;TZID=America/Vancouver:20270801T120000
DTSTAMP:20260421T152553
CREATED:20241102T184143Z
LAST-MODIFIED:20260221T003109Z
UID:10007955-1817118000-1817121600@blackrock-kadence.gotbdev.com
SUMMARY:Mezz: Adult Wrestling (Free to Members)
DESCRIPTION:Experience Adult Wrestling at Black Rock! A dedicated space to develop your strength\, endurance\, and wrestling technique. This is a no-Jiu-Jitsu\, no-striking program\, offering a challenging and rewarding workout for all skill levels. Whether you’re a beginner or seasoned wrestler\, Black Rock has you covered.
URL:https://blackrock-kadence.gotbdev.com/event/adult-wrestling-2/2027-08-01/
CATEGORIES:MMA
ATTACH;FMTTYPE=image/jpeg:https://blackrock-kadence.gotbdev.com/wp-content/uploads/2024/09/adult-mma-27.jpg
END:VEVENT
BEGIN:VEVENT
DTSTART;TZID=America/Vancouver:20270808T110000
DTEND;TZID=America/Vancouver:20270808T120000
DTSTAMP:20260421T152553
CREATED:20241102T184143Z
LAST-MODIFIED:20260221T003109Z
UID:10007956-1817722800-1817726400@blackrock-kadence.gotbdev.com
SUMMARY:Mezz: Adult Wrestling (Free to Members)
DESCRIPTION:Experience Adult Wrestling at Black Rock! A dedicated space to develop your strength\, endurance\, and wrestling technique. This is a no-Jiu-Jitsu\, no-striking program\, offering a challenging and rewarding workout for all skill levels. Whether you’re a beginner or seasoned wrestler\, Black Rock has you covered.
URL:https://blackrock-kadence.gotbdev.com/event/adult-wrestling-2/2027-08-08/
CATEGORIES:MMA
ATTACH;FMTTYPE=image/jpeg:https://blackrock-kadence.gotbdev.com/wp-content/uploads/2024/09/adult-mma-27.jpg
END:VEVENT
BEGIN:VEVENT
DTSTART;TZID=America/Vancouver:20270815T110000
DTEND;TZID=America/Vancouver:20270815T120000
DTSTAMP:20260421T152553
CREATED:20241102T184143Z
LAST-MODIFIED:20260221T003109Z
UID:10007957-1818327600-1818331200@blackrock-kadence.gotbdev.com
SUMMARY:Mezz: Adult Wrestling (Free to Members)
DESCRIPTION:Experience Adult Wrestling at Black Rock! A dedicated space to develop your strength\, endurance\, and wrestling technique. This is a no-Jiu-Jitsu\, no-striking program\, offering a challenging and rewarding workout for all skill levels. Whether you’re a beginner or seasoned wrestler\, Black Rock has you covered.
URL:https://blackrock-kadence.gotbdev.com/event/adult-wrestling-2/2027-08-15/
CATEGORIES:MMA
ATTACH;FMTTYPE=image/jpeg:https://blackrock-kadence.gotbdev.com/wp-content/uploads/2024/09/adult-mma-27.jpg
END:VEVENT
BEGIN:VEVENT
DTSTART;TZID=America/Vancouver:20270822T110000
DTEND;TZID=America/Vancouver:20270822T120000
DTSTAMP:20260421T152553
CREATED:20241102T184143Z
LAST-MODIFIED:20260221T003109Z
UID:10007958-1818932400-1818936000@blackrock-kadence.gotbdev.com
SUMMARY:Mezz: Adult Wrestling (Free to Members)
DESCRIPTION:Experience Adult Wrestling at Black Rock! A dedicated space to develop your strength\, endurance\, and wrestling technique. This is a no-Jiu-Jitsu\, no-striking program\, offering a challenging and rewarding workout for all skill levels. Whether you’re a beginner or seasoned wrestler\, Black Rock has you covered.
URL:https://blackrock-kadence.gotbdev.com/event/adult-wrestling-2/2027-08-22/
CATEGORIES:MMA
ATTACH;FMTTYPE=image/jpeg:https://blackrock-kadence.gotbdev.com/wp-content/uploads/2024/09/adult-mma-27.jpg
END:VEVENT
BEGIN:VEVENT
DTSTART;TZID=America/Vancouver:20270829T110000
DTEND;TZID=America/Vancouver:20270829T120000
DTSTAMP:20260421T152553
CREATED:20241102T184143Z
LAST-MODIFIED:20260221T003109Z
UID:10007959-1819537200-1819540800@blackrock-kadence.gotbdev.com
SUMMARY:Mezz: Adult Wrestling (Free to Members)
DESCRIPTION:Experience Adult Wrestling at Black Rock! A dedicated space to develop your strength\, endurance\, and wrestling technique. This is a no-Jiu-Jitsu\, no-striking program\, offering a challenging and rewarding workout for all skill levels. Whether you’re a beginner or seasoned wrestler\, Black Rock has you covered.
URL:https://blackrock-kadence.gotbdev.com/event/adult-wrestling-2/2027-08-29/
CATEGORIES:MMA
ATTACH;FMTTYPE=image/jpeg:https://blackrock-kadence.gotbdev.com/wp-content/uploads/2024/09/adult-mma-27.jpg
END:VEVENT
BEGIN:VEVENT
DTSTART;TZID=America/Vancouver:20270905T110000
DTEND;TZID=America/Vancouver:20270905T120000
DTSTAMP:20260421T152553
CREATED:20241102T184143Z
LAST-MODIFIED:20260221T003109Z
UID:10007960-1820142000-1820145600@blackrock-kadence.gotbdev.com
SUMMARY:Mezz: Adult Wrestling (Free to Members)
DESCRIPTION:Experience Adult Wrestling at Black Rock! A dedicated space to develop your strength\, endurance\, and wrestling technique. This is a no-Jiu-Jitsu\, no-striking program\, offering a challenging and rewarding workout for all skill levels. Whether you’re a beginner or seasoned wrestler\, Black Rock has you covered.
URL:https://blackrock-kadence.gotbdev.com/event/adult-wrestling-2/2027-09-05/
CATEGORIES:MMA
ATTACH;FMTTYPE=image/jpeg:https://blackrock-kadence.gotbdev.com/wp-content/uploads/2024/09/adult-mma-27.jpg
END:VEVENT
BEGIN:VEVENT
DTSTART;TZID=America/Vancouver:20270912T110000
DTEND;TZID=America/Vancouver:20270912T120000
DTSTAMP:20260421T152553
CREATED:20241102T184143Z
LAST-MODIFIED:20260221T003109Z
UID:10007961-1820746800-1820750400@blackrock-kadence.gotbdev.com
SUMMARY:Mezz: Adult Wrestling (Free to Members)
DESCRIPTION:Experience Adult Wrestling at Black Rock! A dedicated space to develop your strength\, endurance\, and wrestling technique. This is a no-Jiu-Jitsu\, no-striking program\, offering a challenging and rewarding workout for all skill levels. Whether you’re a beginner or seasoned wrestler\, Black Rock has you covered.
URL:https://blackrock-kadence.gotbdev.com/event/adult-wrestling-2/2027-09-12/
CATEGORIES:MMA
ATTACH;FMTTYPE=image/jpeg:https://blackrock-kadence.gotbdev.com/wp-content/uploads/2024/09/adult-mma-27.jpg
END:VEVENT
BEGIN:VEVENT
DTSTART;TZID=America/Vancouver:20270919T110000
DTEND;TZID=America/Vancouver:20270919T120000
DTSTAMP:20260421T152553
CREATED:20241102T184143Z
LAST-MODIFIED:20260221T003109Z
UID:10007962-1821351600-1821355200@blackrock-kadence.gotbdev.com
SUMMARY:Mezz: Adult Wrestling (Free to Members)
DESCRIPTION:Experience Adult Wrestling at Black Rock! A dedicated space to develop your strength\, endurance\, and wrestling technique. This is a no-Jiu-Jitsu\, no-striking program\, offering a challenging and rewarding workout for all skill levels. Whether you’re a beginner or seasoned wrestler\, Black Rock has you covered.
URL:https://blackrock-kadence.gotbdev.com/event/adult-wrestling-2/2027-09-19/
CATEGORIES:MMA
ATTACH;FMTTYPE=image/jpeg:https://blackrock-kadence.gotbdev.com/wp-content/uploads/2024/09/adult-mma-27.jpg
END:VEVENT
BEGIN:VEVENT
DTSTART;TZID=America/Vancouver:20270926T110000
DTEND;TZID=America/Vancouver:20270926T120000
DTSTAMP:20260421T152553
CREATED:20241102T184143Z
LAST-MODIFIED:20260221T003109Z
UID:10007963-1821956400-1821960000@blackrock-kadence.gotbdev.com
SUMMARY:Mezz: Adult Wrestling (Free to Members)
DESCRIPTION:Experience Adult Wrestling at Black Rock! A dedicated space to develop your strength\, endurance\, and wrestling technique. This is a no-Jiu-Jitsu\, no-striking program\, offering a challenging and rewarding workout for all skill levels. Whether you’re a beginner or seasoned wrestler\, Black Rock has you covered.
URL:https://blackrock-kadence.gotbdev.com/event/adult-wrestling-2/2027-09-26/
CATEGORIES:MMA
ATTACH;FMTTYPE=image/jpeg:https://blackrock-kadence.gotbdev.com/wp-content/uploads/2024/09/adult-mma-27.jpg
END:VEVENT
BEGIN:VEVENT
DTSTART;TZID=America/Vancouver:20271003T110000
DTEND;TZID=America/Vancouver:20271003T120000
DTSTAMP:20260421T152553
CREATED:20241102T184143Z
LAST-MODIFIED:20260221T003109Z
UID:10007964-1822561200-1822564800@blackrock-kadence.gotbdev.com
SUMMARY:Mezz: Adult Wrestling (Free to Members)
DESCRIPTION:Experience Adult Wrestling at Black Rock! A dedicated space to develop your strength\, endurance\, and wrestling technique. This is a no-Jiu-Jitsu\, no-striking program\, offering a challenging and rewarding workout for all skill levels. Whether you’re a beginner or seasoned wrestler\, Black Rock has you covered.
URL:https://blackrock-kadence.gotbdev.com/event/adult-wrestling-2/2027-10-03/
CATEGORIES:MMA
ATTACH;FMTTYPE=image/jpeg:https://blackrock-kadence.gotbdev.com/wp-content/uploads/2024/09/adult-mma-27.jpg
END:VEVENT
BEGIN:VEVENT
DTSTART;TZID=America/Vancouver:20271010T110000
DTEND;TZID=America/Vancouver:20271010T120000
DTSTAMP:20260421T152553
CREATED:20241102T184143Z
LAST-MODIFIED:20260221T003109Z
UID:10007965-1823166000-1823169600@blackrock-kadence.gotbdev.com
SUMMARY:Mezz: Adult Wrestling (Free to Members)
DESCRIPTION:Experience Adult Wrestling at Black Rock! A dedicated space to develop your strength\, endurance\, and wrestling technique. This is a no-Jiu-Jitsu\, no-striking program\, offering a challenging and rewarding workout for all skill levels. Whether you’re a beginner or seasoned wrestler\, Black Rock has you covered.
URL:https://blackrock-kadence.gotbdev.com/event/adult-wrestling-2/2027-10-10/
CATEGORIES:MMA
ATTACH;FMTTYPE=image/jpeg:https://blackrock-kadence.gotbdev.com/wp-content/uploads/2024/09/adult-mma-27.jpg
END:VEVENT
BEGIN:VEVENT
DTSTART;TZID=America/Vancouver:20271017T110000
DTEND;TZID=America/Vancouver:20271017T120000
DTSTAMP:20260421T152553
CREATED:20241102T184143Z
LAST-MODIFIED:20260221T003109Z
UID:10007966-1823770800-1823774400@blackrock-kadence.gotbdev.com
SUMMARY:Mezz: Adult Wrestling (Free to Members)
DESCRIPTION:Experience Adult Wrestling at Black Rock! A dedicated space to develop your strength\, endurance\, and wrestling technique. This is a no-Jiu-Jitsu\, no-striking program\, offering a challenging and rewarding workout for all skill levels. Whether you’re a beginner or seasoned wrestler\, Black Rock has you covered.
URL:https://blackrock-kadence.gotbdev.com/event/adult-wrestling-2/2027-10-17/
CATEGORIES:MMA
ATTACH;FMTTYPE=image/jpeg:https://blackrock-kadence.gotbdev.com/wp-content/uploads/2024/09/adult-mma-27.jpg
END:VEVENT
BEGIN:VEVENT
DTSTART;TZID=America/Vancouver:20271024T110000
DTEND;TZID=America/Vancouver:20271024T120000
DTSTAMP:20260421T152553
CREATED:20241102T184143Z
LAST-MODIFIED:20260221T003109Z
UID:10007967-1824375600-1824379200@blackrock-kadence.gotbdev.com
SUMMARY:Mezz: Adult Wrestling (Free to Members)
DESCRIPTION:Experience Adult Wrestling at Black Rock! A dedicated space to develop your strength\, endurance\, and wrestling technique. This is a no-Jiu-Jitsu\, no-striking program\, offering a challenging and rewarding workout for all skill levels. Whether you’re a beginner or seasoned wrestler\, Black Rock has you covered.
URL:https://blackrock-kadence.gotbdev.com/event/adult-wrestling-2/2027-10-24/
CATEGORIES:MMA
ATTACH;FMTTYPE=image/jpeg:https://blackrock-kadence.gotbdev.com/wp-content/uploads/2024/09/adult-mma-27.jpg
END:VEVENT
BEGIN:VEVENT
DTSTART;TZID=America/Vancouver:20271031T110000
DTEND;TZID=America/Vancouver:20271031T120000
DTSTAMP:20260421T152553
CREATED:20241102T184143Z
LAST-MODIFIED:20260221T003109Z
UID:10007968-1824980400-1824984000@blackrock-kadence.gotbdev.com
SUMMARY:Mezz: Adult Wrestling (Free to Members)
DESCRIPTION:Experience Adult Wrestling at Black Rock! A dedicated space to develop your strength\, endurance\, and wrestling technique. This is a no-Jiu-Jitsu\, no-striking program\, offering a challenging and rewarding workout for all skill levels. Whether you’re a beginner or seasoned wrestler\, Black Rock has you covered.
URL:https://blackrock-kadence.gotbdev.com/event/adult-wrestling-2/2027-10-31/
CATEGORIES:MMA
ATTACH;FMTTYPE=image/jpeg:https://blackrock-kadence.gotbdev.com/wp-content/uploads/2024/09/adult-mma-27.jpg
END:VEVENT
BEGIN:VEVENT
DTSTART;TZID=America/Vancouver:20271107T110000
DTEND;TZID=America/Vancouver:20271107T120000
DTSTAMP:20260421T152553
CREATED:20241102T184143Z
LAST-MODIFIED:20260221T003109Z
UID:10007969-1825585200-1825588800@blackrock-kadence.gotbdev.com
SUMMARY:Mezz: Adult Wrestling (Free to Members)
DESCRIPTION:Experience Adult Wrestling at Black Rock! A dedicated space to develop your strength\, endurance\, and wrestling technique. This is a no-Jiu-Jitsu\, no-striking program\, offering a challenging and rewarding workout for all skill levels. Whether you’re a beginner or seasoned wrestler\, Black Rock has you covered.
URL:https://blackrock-kadence.gotbdev.com/event/adult-wrestling-2/2027-11-07/
CATEGORIES:MMA
ATTACH;FMTTYPE=image/jpeg:https://blackrock-kadence.gotbdev.com/wp-content/uploads/2024/09/adult-mma-27.jpg
END:VEVENT
BEGIN:VEVENT
DTSTART;TZID=America/Vancouver:20271114T110000
DTEND;TZID=America/Vancouver:20271114T120000
DTSTAMP:20260421T152553
CREATED:20241102T184143Z
LAST-MODIFIED:20260221T003109Z
UID:10007970-1826190000-1826193600@blackrock-kadence.gotbdev.com
SUMMARY:Mezz: Adult Wrestling (Free to Members)
DESCRIPTION:Experience Adult Wrestling at Black Rock! A dedicated space to develop your strength\, endurance\, and wrestling technique. This is a no-Jiu-Jitsu\, no-striking program\, offering a challenging and rewarding workout for all skill levels. Whether you’re a beginner or seasoned wrestler\, Black Rock has you covered.
URL:https://blackrock-kadence.gotbdev.com/event/adult-wrestling-2/2027-11-14/
CATEGORIES:MMA
ATTACH;FMTTYPE=image/jpeg:https://blackrock-kadence.gotbdev.com/wp-content/uploads/2024/09/adult-mma-27.jpg
END:VEVENT
BEGIN:VEVENT
DTSTART;TZID=America/Vancouver:20271121T110000
DTEND;TZID=America/Vancouver:20271121T120000
DTSTAMP:20260421T152553
CREATED:20241102T184143Z
LAST-MODIFIED:20260221T003109Z
UID:10007971-1826794800-1826798400@blackrock-kadence.gotbdev.com
SUMMARY:Mezz: Adult Wrestling (Free to Members)
DESCRIPTION:Experience Adult Wrestling at Black Rock! A dedicated space to develop your strength\, endurance\, and wrestling technique. This is a no-Jiu-Jitsu\, no-striking program\, offering a challenging and rewarding workout for all skill levels. Whether you’re a beginner or seasoned wrestler\, Black Rock has you covered.
URL:https://blackrock-kadence.gotbdev.com/event/adult-wrestling-2/2027-11-21/
CATEGORIES:MMA
ATTACH;FMTTYPE=image/jpeg:https://blackrock-kadence.gotbdev.com/wp-content/uploads/2024/09/adult-mma-27.jpg
END:VEVENT
BEGIN:VEVENT
DTSTART;TZID=America/Vancouver:20271128T110000
DTEND;TZID=America/Vancouver:20271128T120000
DTSTAMP:20260421T152553
CREATED:20241102T184143Z
LAST-MODIFIED:20260221T003109Z
UID:10007972-1827399600-1827403200@blackrock-kadence.gotbdev.com
SUMMARY:Mezz: Adult Wrestling (Free to Members)
DESCRIPTION:Experience Adult Wrestling at Black Rock! A dedicated space to develop your strength\, endurance\, and wrestling technique. This is a no-Jiu-Jitsu\, no-striking program\, offering a challenging and rewarding workout for all skill levels. Whether you’re a beginner or seasoned wrestler\, Black Rock has you covered.
URL:https://blackrock-kadence.gotbdev.com/event/adult-wrestling-2/2027-11-28/
CATEGORIES:MMA
ATTACH;FMTTYPE=image/jpeg:https://blackrock-kadence.gotbdev.com/wp-content/uploads/2024/09/adult-mma-27.jpg
END:VEVENT
BEGIN:VEVENT
DTSTART;TZID=America/Vancouver:20271205T110000
DTEND;TZID=America/Vancouver:20271205T120000
DTSTAMP:20260421T152553
CREATED:20241102T184143Z
LAST-MODIFIED:20260221T003109Z
UID:10007973-1828004400-1828008000@blackrock-kadence.gotbdev.com
SUMMARY:Mezz: Adult Wrestling (Free to Members)
DESCRIPTION:Experience Adult Wrestling at Black Rock! A dedicated space to develop your strength\, endurance\, and wrestling technique. This is a no-Jiu-Jitsu\, no-striking program\, offering a challenging and rewarding workout for all skill levels. Whether you’re a beginner or seasoned wrestler\, Black Rock has you covered.
URL:https://blackrock-kadence.gotbdev.com/event/adult-wrestling-2/2027-12-05/
CATEGORIES:MMA
ATTACH;FMTTYPE=image/jpeg:https://blackrock-kadence.gotbdev.com/wp-content/uploads/2024/09/adult-mma-27.jpg
END:VEVENT
BEGIN:VEVENT
DTSTART;TZID=America/Vancouver:20271212T110000
DTEND;TZID=America/Vancouver:20271212T120000
DTSTAMP:20260421T152553
CREATED:20241102T184143Z
LAST-MODIFIED:20260221T003109Z
UID:10007974-1828609200-1828612800@blackrock-kadence.gotbdev.com
SUMMARY:Mezz: Adult Wrestling (Free to Members)
DESCRIPTION:Experience Adult Wrestling at Black Rock! A dedicated space to develop your strength\, endurance\, and wrestling technique. This is a no-Jiu-Jitsu\, no-striking program\, offering a challenging and rewarding workout for all skill levels. Whether you’re a beginner or seasoned wrestler\, Black Rock has you covered.
URL:https://blackrock-kadence.gotbdev.com/event/adult-wrestling-2/2027-12-12/
CATEGORIES:MMA
ATTACH;FMTTYPE=image/jpeg:https://blackrock-kadence.gotbdev.com/wp-content/uploads/2024/09/adult-mma-27.jpg
END:VEVENT
BEGIN:VEVENT
DTSTART;TZID=America/Vancouver:20271219T110000
DTEND;TZID=America/Vancouver:20271219T120000
DTSTAMP:20260421T152553
CREATED:20241102T184143Z
LAST-MODIFIED:20260221T003109Z
UID:10007975-1829214000-1829217600@blackrock-kadence.gotbdev.com
SUMMARY:Mezz: Adult Wrestling (Free to Members)
DESCRIPTION:Experience Adult Wrestling at Black Rock! A dedicated space to develop your strength\, endurance\, and wrestling technique. This is a no-Jiu-Jitsu\, no-striking program\, offering a challenging and rewarding workout for all skill levels. Whether you’re a beginner or seasoned wrestler\, Black Rock has you covered.
URL:https://blackrock-kadence.gotbdev.com/event/adult-wrestling-2/2027-12-19/
CATEGORIES:MMA
ATTACH;FMTTYPE=image/jpeg:https://blackrock-kadence.gotbdev.com/wp-content/uploads/2024/09/adult-mma-27.jpg
END:VEVENT
BEGIN:VEVENT
DTSTART;TZID=America/Vancouver:20271226T110000
DTEND;TZID=America/Vancouver:20271226T120000
DTSTAMP:20260421T152553
CREATED:20241102T184143Z
LAST-MODIFIED:20260221T003109Z
UID:10007976-1829818800-1829822400@blackrock-kadence.gotbdev.com
SUMMARY:Mezz: Adult Wrestling (Free to Members)
DESCRIPTION:Experience Adult Wrestling at Black Rock! A dedicated space to develop your strength\, endurance\, and wrestling technique. This is a no-Jiu-Jitsu\, no-striking program\, offering a challenging and rewarding workout for all skill levels. Whether you’re a beginner or seasoned wrestler\, Black Rock has you covered.
URL:https://blackrock-kadence.gotbdev.com/event/adult-wrestling-2/2027-12-26/
CATEGORIES:MMA
ATTACH;FMTTYPE=image/jpeg:https://blackrock-kadence.gotbdev.com/wp-content/uploads/2024/09/adult-mma-27.jpg
END:VEVENT
BEGIN:VEVENT
DTSTART;TZID=America/Vancouver:20280102T110000
DTEND;TZID=America/Vancouver:20280102T120000
DTSTAMP:20260421T152553
CREATED:20241102T184143Z
LAST-MODIFIED:20260221T003109Z
UID:10007977-1830423600-1830427200@blackrock-kadence.gotbdev.com
SUMMARY:Mezz: Adult Wrestling (Free to Members)
DESCRIPTION:Experience Adult Wrestling at Black Rock! A dedicated space to develop your strength\, endurance\, and wrestling technique. This is a no-Jiu-Jitsu\, no-striking program\, offering a challenging and rewarding workout for all skill levels. Whether you’re a beginner or seasoned wrestler\, Black Rock has you covered.
URL:https://blackrock-kadence.gotbdev.com/event/adult-wrestling-2/2028-01-02/
CATEGORIES:MMA
ATTACH;FMTTYPE=image/jpeg:https://blackrock-kadence.gotbdev.com/wp-content/uploads/2024/09/adult-mma-27.jpg
END:VEVENT
BEGIN:VEVENT
DTSTART;TZID=America/Vancouver:20280109T110000
DTEND;TZID=America/Vancouver:20280109T120000
DTSTAMP:20260421T152553
CREATED:20241102T184143Z
LAST-MODIFIED:20260221T003109Z
UID:10007978-1831028400-1831032000@blackrock-kadence.gotbdev.com
SUMMARY:Mezz: Adult Wrestling (Free to Members)
DESCRIPTION:Experience Adult Wrestling at Black Rock! A dedicated space to develop your strength\, endurance\, and wrestling technique. This is a no-Jiu-Jitsu\, no-striking program\, offering a challenging and rewarding workout for all skill levels. Whether you’re a beginner or seasoned wrestler\, Black Rock has you covered.
URL:https://blackrock-kadence.gotbdev.com/event/adult-wrestling-2/2028-01-09/
CATEGORIES:MMA
ATTACH;FMTTYPE=image/jpeg:https://blackrock-kadence.gotbdev.com/wp-content/uploads/2024/09/adult-mma-27.jpg
END:VEVENT
END:VCALENDAR